BEGIN:VCALENDAR
VERSION:2.0
PRODID:icalendar-ruby
CALSCALE:GREGORIAN
METHOD:PUBLISH
BEGIN:VEVENT
DTSTAMP:20260423T134742Z
UID:15-171020@oasissd.org
DTSTART;VALUE=DATE:20261101
DTEND;VALUE=DATE:20261101
CLASS:PUBLIC
CREATED:20260423T050857
DESCRIPTION:Join us this Sunday at 9:00am or 10:30am. We would love to meet
  you and help you take your next steps in your journey with Christ!
LAST-MODIFIED:20260423T050857
LOCATION:9:00am & 10:30am | Oasis Church
SUMMARY:SUNDAY GATHERING
URL;VALUE=URI:https://www.oasissd.org/events/sunday-gathering--15/2026-11-0
 1
ATTACH;FILENAME=OASIS-SUNDAY-EVENTS-TAB.jpg;FMTTYPE=image/jpeg:https://dq5p
 wpg1q8ru0.cloudfront.net/2026/02/06/07/44/07/479ffb9a-1f9f-45c9-92ce-78736
 115b56a/OASIS-SUNDAY-EVENTS-TAB.jpg
END:VEVENT
END:VCALENDAR
