BEGIN:VCALENDAR
VERSION:2.0
PRODID:icalendar-ruby
CALSCALE:GREGORIAN
METHOD:PUBLISH
BEGIN:VEVENT
DTSTAMP:20260422T230708Z
UID:43-170767@oasissd.org
DTSTART:20261008T010000Z
DTEND:20261008T030000Z
CLASS:PUBLIC
CREATED:20260422T135259
DESCRIPTION:Youth Night happens every Wednesday from 6:00–8:00 p.m. an
 d is open to students in 6th–12th grade.\nEach week\, students gather f
 or a fun\, safe\, and encouraging environment filled with worship\, games
 \, relevant teaching\, and meaningful connection. Youth Night is designed 
 to help students grow in their faith\, build strong friendships\, and feel
  supported as they navigate middle and high school life.\nWhether it’s y
 our student’s first time or they’ve been coming for years\, everyone 
 is welcome — bring a friend and come ready to connect!
LAST-MODIFIED:20260422T135259
LOCATION:Oasis Church
SUMMARY:Oasis Youth Night
URL;VALUE=URI:https://www.oasissd.org/events/oasis-youth-night/2026-10-07
ATTACH;FILENAME=YouthNightGraphic.jpeg;FMTTYPE=image/jpeg:https://dq5pwpg1q
 8ru0.cloudfront.net/2026/01/20/15/04/38/164be4eb-cd4b-4b57-b706-d56199a87c
 1e/YouthNightGraphic.jpeg
END:VEVENT
END:VCALENDAR
